Workbook

Sheet энкаунтеры
C1: EXP | F1: pp | G1: gp | H1: ep | I1: sp | J1: cp | K1: potions | L1: misc | M1: scroll | N1: weapons | O1: armors | P1: wondrous items
C2: Per character | G2: Per party
A3: !!! PC Level 1
A4: 1. Finding Cragmaw hideout | C4: 75
A5: 2. Cragmaw hideout | C5: 275 | D5: =C5+C4 -> 350 | E5: 2nd level | F5: 3 | G5: 3 | I5: 125 | J5: 600 | K5: 2 healing | L5: jade statuette = 40 gp
A6: !!! PC Level 2 | G6: =G5+G4 -> 3 | H6: =H5+H4 -> 0 | I6: =I5+I4 -> 125 | J6: =J5+J4 -> 600 | K6: 2 healing | L6: misc = 40 gp
A7: 3. Redbrand Ruffians | C7: 75 | D7: =C7+D5 -> 425
A8: 4. Redbrand Hideout
A9: 4.1. Cellar | G9: 50 | K9: healing, invisibility
A10: 4.2. Barracks | C10: 75 | D10: =C10+D7 -> 500 | G10: 12 | I10: 28 | J10: 15 | L10: 2 garnets = 20 gp
A11: 4.3. Trapped Hall | C11: 25 | D11: =C11+D10 -> 525
A12: 4.4. Tresendar Crypts | C12: =150/4 -> 37.5 | D12: =C12+D11 -> 562.5 | L12: platinum signet = 50 gp
A13: 4.5. Slave Pens | C13: =300/4 -> 75 | D13: =C13+D12 -> 637.5
A14: 4.7. Storeroom and Work Area | L14: 30 beaver pelts = 60 gp
A15: 4.8. Crevasse | C15: =450/4 -> 112.5 | D15: =C15+D13 -> 750 | G15: 120 | I15: 160 | K15: 2 healing | L15: 5 gems = 75 | M15: augury | N15: longsword (+1)
A16: 4.9. Guard Barracks | C16: 150 | D16: =C16+D15 -> 900 | I16: 33 | L16: eye patch = 50 gp
A17: 4.10. Common Room | C17: 100 | D17: =C17+D16 -> 1000 | G17: 15 | H17: 22 | I17: 55 | J17: 75 | L17: gold earrings = 30 gp
A18: 4.11. Wizard's Workshop | L18: rare reagents = 75 gp
A19: 4.12. Glassstaff's Quarters | C19: 100 | D19: =C19+D17 -> 1100 | G19: 130 | I19: 180 | L19: gems = 180 gp | M19: charm person, fireball | N19: staff of defense
A20: 4. TOTAL Redbrand Hideout | F20: =SUM(F7:F19) -> 0 | G20: =SUM(G7:G19) -> 327 | H20: =SUM(H7:H19) -> 22 | I20: =SUM(I7:I19) -> 456 | J20: =SUM(J7:J19) -> 90 | K20: 3 healing, invisibility | L20: misc = 540 gp | M20: augury, charm person | N20: staff of defense, longsword "Talon" (+1)
A21: !!! PC Level 3
A22: 6. Dealing with Agatha | C22: 50 | D22: =C22+D19 -> 1150
A23: 7. Old Owl Well | C23: 200 | D23: =C23+D22 -> 1350 | F23: 5 | G23: 20 | H23: 20 | I23: 35 | K23: healing | L23: pearl = 100 gp | M23: darkness | P23: ring of protection
A24: 8. RUINS OF THUNDERTREE
A25: 8.1. Westernmost Cottage | C25: =50/4 -> 12.5 | D25: =C25+D23 -> 1362.5
A26: 8.2. Blighted Cottages | C26: =C25 -> 12.5 | D26: =C26+D25 -> 1375 | G26: 90 | I26: 160 | J26: 700
A27: 8.3. The Brown Horse | C27: 50 | D27: =D26+C27 -> 1425
A28: 8.5. Blighted Farmhouse | C28: 50 | D28: =C28+D27 -> 1475
A29: 8.6. Ruines Store | C29: 100 | D29: =C29+D28 -> 1575 | G29: 23 | I29: 35 | K29: healing
A30: 8.7. Dragon Tower | C30: =2000/4 -> 500 | D30: =C30+D29 -> 2075 | G30: 150 | I30: 800 | L30: goblets = 240 gp | M30: misty step, lightning bolt | N30: battleaxe "Hew" (+1)
A31: 8.8. Old Smithy | C31: 25 | D31: =C31+D30 -> 2100
A32: 8.9. Herbalist's Shop | L32: necklace = 200 gp
A33: 8.11. Old Garrison | C33: =250/4 -> 62.5 | D33: =C33+D31 -> 2162.5
A34: 8.12. Weaver's Cottage | C34: =150/4 -> 37.5 | D34: =C34+D33 -> 2200
A35: 8.13. Dragon Cultists | C35: =150/4 -> 37.5 | D35: =C35+D34 -> 2237.5 | K35: flying | L35: gems = 300 gp
A36: TOTAL Ruins of Thundertree | C36: =SUM(C25:C35) -> 887.5 | F36: =SUM(F25:F35) -> 0 | G36: =SUM(G25:G35) -> 263 | H36: =SUM(H25:H35) -> 0 | I36: =SUM(I25:I35) -> 995 | J36: =SUM(J25:J35) -> 700 | K36: healing, flying | L36: misc = 740 gp | M36: misty step, lightning bolt | N36: battleaxe "Hew" (+1) | P36: ring of protection
A37: 9. WYVERN TOR
A38: 9.1. Orc Camp | C38: =1250/4 -> 312.5 | D38: =C38+D35 -> 2550 | G38: 30 | H38: 62 | I38: 180 | J38: 750
A39: 10. CRAGMAW CASTLE
A40: 10.2. Trapped Hall | C40: 25 | D40: =C40+D38 -> 2575
...

Sheet свод
A1: На команду из 4х человек
B2: pp | C2: gp | D2: ep | E2: sp | F2: cp | G2: gp* | H2: misc | J2: potions | K2: scrolls | L2: weapons | M2: armors | N2: wondrous items
A3: Level 1
A4: Level 2 | B4: =энкаунтеры!F6 -> 0 | C4: =энкаунтеры!G6 -> 3 | D4: =энкаунтеры!H6 -> 0 | E4: =энкаунтеры!I6 -> 125 | F4: =энкаунтеры!J6 -> 600 | G4: =B4*10+C4+D4/2+E4/10+F4/100 -> 21.5 | H4: 40 | J4: =энкаунтеры!K6 -> 2 healing
B5: =B4/4 -> 0 | C5: =C4/4 -> 0.75 | D5: =D4/4 -> 0 | E5: =E4/4 -> 31.25 | F5: =F4/4 -> 150 | G5: =G4/4 -> 5.375 | H5: =H4/4 -> 10 | I5: =G5+H5 -> 15.375 | J5: 50% - healing potion
A6: Level 3 | B6: =энкаунтеры!F20+свод!B4 -> 0 | C6: =энкаунтеры!G20+свод!C4 -> 330 | D6: =энкаунтеры!H20+свод!D4 -> 22 | E6: =энкаунтеры!I20+свод!E4 -> 581 | F6: =энкаунтеры!J20+свод!F4 -> 690 | G6: =B6*10+C6+D6/2+E6/10+F6/100 -> 406 | H6: 580 | J6: 5 healing, invisibility | K6: augury [2], charm person [1] | L6: staff of defense, longsword "Talon" (+1)
B7: =B6/4 -> 0 | C7: =C6/4 -> 82.5 | D7: =D6/4 -> 5.5 | E7: =E6/4 -> 145.25 | F7: =F6/4 -> 172.5 | G7: =G6/4 -> 101.5 | H7: =H6/4 -> 145 | I7: =G7+H7 -> 246.5 | J7: 1 healing + (50% - healing) + (25% - invisibility) | K7: (25% - scroll 1 lvl) + (25% - scroll 2 lvl)
A8: Level 4 | B8: =B6+энкаунтеры!F22+энкаунтеры!F23+энкаунтеры!F36+энкаунтеры!F50 -> 5 | C8: =C6+энкаунтеры!G22+энкаунтеры!G23+энкаунтеры!G36+энкаунтеры!G50 -> 733 | D8: =D6+энкаунтеры!H22+энкаунтеры!H23+энкаунтеры!H36+энкаунтеры!H50 -> 292 | E8: =E6+энкаунтеры!I22+энкаунтеры!I23+энкаунтеры!I36+энкаунтеры!I50 -> 1831 | F8: =F6+энкаунтеры!J22+энкаунтеры!J23+энкаунтеры!J36+энкаунтеры!J50 -> 1390 | G8: =B8*10+C8+D8/2+E8/10+F8/100 -> 1126 | H8: =840+430+H6 -> 1850 | J8: 11 healing, invisibility, flying | K8: silence [2], revivify [3], augury [2], charm person [1], misty step [2], lightning bolt [3], darkness [2] | L8: battleaxe "Hew" (+1), staff of defense, longsword "Talon" (+1), masterwork quarterstaff | N8: ring of protection
B9: =B8/4 -> 1.25 | C9: =C8/4 -> 183.25 | D9: =D8/4 -> 73 | E9: =E8/4 -> 457.75 | F9: =F8/4 -> 347.5 | G9: =G8/4 -> 281.5 | H9: =H8/4 -> 462.5 | I9: =G9+H9 -> 744 | J9: 2 healing + (75% - healing) + (25% - invisibility) + (25% - flying) | K9: (25% - scroll 1 lvl) + 1 scroll 2 lvl +(50% - scroll 3 lvl) | L9: (75% - magical weapon) | N9: (25% - wondrous item)
A10: Level 5 | B10: =B8+энкаунтеры!F74 -> 20 | C10: =C8+энкаунтеры!G74 -> 923 | D10: =D8+энкаунтеры!H74 -> 635 | E10: =E8+энкаунтеры!I74 -> 2171 | F10: =F8+энкаунтеры!J74 -> 3105 | G10: =B10*10+C10+D10/2+E10/10+F10/100 -> 1688.65 | H10: =790+H8 -> 2640 | J10: 12 healing, invisibility, flying, vitality | K10: silence [2], revivify [3], augury [2], charm person [1], misty step [2], lightning bolt [3], darkness [2] | L10: Spider staff, mace "Lightbringer" (+1), battleaxe "Hew" (+1), staff of defense, longsword "Talon" (+1), masterwork quarterstaff | M10: breastplate "Dragonguard" (+1) | N10: ring of protection, boots of striding and springing, gauntlets of ogre power, wand of magic missiles
B11: =B10/4 -> 5 | C11: =C10/4 -> 230.75 | D11: =D10/4 -> 158.75 | E11: =E10/4 -> 542.75 | F11: =F10/4 -> 776.25 | G11: =G10/4 -> 422.1625 | H11: =H10/4 -> 660 | I11: =G11+H11 -> 1082.1625 | J11: 3 healing + (25% - vitality) + (25% - invisibility) + (25% - flying) | K11: (25% - scroll 1 lvl) + 1 scroll 2 lvl +(50% - scroll 3 lvl) | L11: 1 magical weapon + (25% - magical weapon) | M11: 25% - magical armor | N11: 1 wondrous item
B14: Consumables | F14: Permanent | L14: Rarity | M14: lvl | N14: min value, gp | O14: max value, gp
L15: Common | M15: 1 | N15: 50 | O15: 100
B16: Potion of healing | C16: common | D16: 12 | F16: Ring of Protection | G16: rare | L16: Uncommon | M16: 1 | N16: 101 | O16: 500
B17: Potion of flying | C17: very rare | D17: 1 | F17: Wand of Magic Missiles | G17: uncommon | L17: Rare | M17: 5 | N17: 501 | O17: 5000
B18: Potion of vitality | C18: very rare | D18: 1 | F18: long sword (+1) | G18: uncommon | L18: Very Rare | M18: 11 | N18: 5001 | O18: 50000
B19: Potion of Invisibility | C19: very rare | D19: 1 | F19: batte axe (+1) | G19: uncommon | L19: Legendary | M19: 17 | N19: 50001
B20: scroll 1 lvl | C20: common | D20: 1 | F20: breastplate (+1) | G20: rare
B21: scroll 2 lvl | C21: uncommon | D21: 4 | F21: Boots of striding and springing | G21: uncommon
B22: scroll 3 lvl | C22: uncommon | D22: 2 | F22: Gauntlets of Ogre Power | G22: uncommon
F23: Spider Staff | G23: uncommon
F24: Staff of Defense | G24: rare
F25: mace (+1) | G25: uncommon
F26: masterwork quarterstaff | G26: common
C28: Common | D28: 13 | G28: Common | H28: 1
C29: Uncommon | D29: 6 | G29: Uncommon | H29: 7
C30: Rare | D30: 0 | G30: Rare | H30: 3
C31: Very Rare | D31: 3
C33: Per PC
C35: Common | D35: =D28/4 -> 3.25 | G35: Common | H35: =H28/4 -> 0.25
C36: Uncommon | D36: =D29/4 -> 1.5 | G36: Uncommon | H36: =H29/4 -> 1.75
C37: Rare | D37: =D30/4 -> 0 | G37: Rare | H37: =H30/4 -> 0.75
C38: Very Rare | D38: =D31/4 -> 0.75

Sheet Лист3
B1: Recommended level | C1: EXP | D1: downtime | E1: DM's reward | G1: Treasure | H1: potions | I1: misc | J1: scroll | K1: weapons | L1: armors | M1: wondrous items | N1: RENOWN | S1: Emnity
C2: Per character | E2: EXP | F2: downtime | N2: H | O2: Z | P2: LA | Q2: EE | R2: OotG
A3: !!! PC Level 1
A4: Defiance in Phlan
A5: Mission 1: Meeting at Deepnight | C5: 100 | D5: 5 | E5: 100 | F5: 5 | G5: 200 | H5: potion of healing | N5: 1
A6: Mission 2: The Screams at Dawn | C6: 100 | D6: 5 | E6: 100 | F6: 5 | G6: 150 | I6: black dragon scale shield = 50 gp | O6: 1
A7: Mission 3: The Dead at Highsun | C7: 100 | D7: 5 | E7: 100 | F7: 5 | G7: 100 | J7: protection from evil and good, comprehened languages | P7: 1
A8: Mission 4: A Shock at Evenfeast | C8: 100 | D8: 5 | E8: 100 | F8: 5 | G8: 100 | H8: potion of healing | I8: gem = 50 gp | Q8: 1
A9: Mission 5: The Danger at Dusk | C9: 100 | D9: 5 | E9: 100 | F9: 5 | G9: 100 | H9: potion of healing | I9: magnifiyng glass = 50 gp | R9: 1
A10: !!! PC Level 2
A11: Secrets of Sokol Keep | C11: 600 | D11: 10 | E11: 300 | F11: 10 | G11: 205 | I11: pouch of platinum = 50 gp, holy symbol = 50 gp, book = 20 gp, chunk of idol = 50 gp per PC | L11: splint armor (common) | M11: wand of magic detection | N11: 2 | O11: 1 | P11: 1 | Q11: 1 | R11: 1
A13: Shadows Over the Moonsea | C13: 600 | D13: 10 | E13: 300 | F13: 10 | G13: 75 | H13: 2 potions of healing | I13: dracolich statue = 150 gp, idols = 200 gp, old trade bars = 200 gp, | M13: ring of evasion | N13: 1 | O13: 1 | P13: 2 | Q13: 2 | R13: 2
A15: Dues For the Dead | C15: 600 | D15: 10 | E15: 200 | F15: 10 | G15: =100+20+5+25+45 -> 195 | I15: jevelry = 40 gp, clothing = 60 gp, trinkets = 130 gp, writing set = 75 gp, lockbox = 100 gp, crown = 250 gp, crown (ruined) = 50 gp, weights and balance = 80 gp, stones from throne = 8 gp, | M15: goggles of night | N15: 1 | O15: 1 | P15: 1 | Q15: 1 | R15: 1 | S15: Enmity of Doomguide Yovir Glandon, Enmity of the Welcomers. Favor of the Welcomers.
A17: The Courting of Fire | C17: 600 | D17: 10 | E17: 200 | F17: 10 | G17: =50+100+150+5+10 -> 315 | I17: gem =15 gp, necklace = 50 gp, stones from pillars = 20 gp | J17: flame blade | M17: ring of fire resistance | N17: 1 | O17: 2 | P17: 1 | Q17: 1 | R17: 1
A18: !!! PC Level 3
A19: The Scroll Thief | C19: 600 | D19: 10 | E19: 200 | F19: 10 | G19: =15+25+25+25+35+50+50+75 -> 300 | H19: potion of greater healing, | I19: gems and coins = 300 gp,amulet = 50 gp, magnifying glass = 50 gp | L19: splint armor (common) | M19: headband of intellect | N19: 2 | O19: 2 | P19: 2 | Q19: 2 | R19: 2 | S19: Favor of Ellison Berenger
A21: Drums in the Marsh | C21: 750 | D21: 10 | E21: 200 | F21: 10 | G21: =12+57+256+150 -> 475 | I21: necklace = 20 gp | J21: fireball | M21: keoghtom's ointment | N21: 1 | O21: 1 | P21: 1 | Q21: 2 | R21: 1
A23: Tales Trees Tell | C23: 750 | D23: 10 | E23: 200 | F23: 10 | G23: =250+300+50+50+50+50+35+15 -> 800 | J23: chromatic orb | M23: cloak of elvenkind | N23: 1 | O23: 1 | P23: 1 | Q23: 2 | R23: 1
A25: Outlaws of the Iron Route | C25: 600 | D25: 10 | E25: 200 | F25: 10 | G25: =100+75+75+50+50+50+25+25+25+25 -> 500 | I25: tent = 125 gp, wagon = 125 gp, | K25: longbow +1 | N25: 2 | O25: 2 | P25: 2 | Q25: 2 | R25: 2
A27: Repeating Expeditions | C27: =12*C23 -> 9000 | D27: =12*D25 -> 120 | E27: =12*E23 -> 2400 | F27: =12*F25 -> 120 | G27: =12*G25 -> 6000
A29: !!! PC Level 6
A31: Tyranny in Phlan | C31: 4000 | D31: 10 | E31: 400 | F31: 10 | G31: =1000+300+200+200+100 -> 1800 | H31: 2 potion of healing | I31: spellbook | J31: sending | M31: ioun stone of protection | N31: 2 | O31: 1 | P31: 2 | Q31: 1 | R31: 1 | S31: In Dark Linsa’s Pocket. In exchange for her assistance in smuggling more than ten dozen people out of Phlan, you have become indebted to the half-drow rogue, Dark Linsa. Despite how ominous this might sound, she was quite impressed by your actions and may call upon you to perform some important task for her in the future.
A33: Dark Pyramid of Sorcerer’s Isle | C33: 10000 | D33: 20 | E33: 800 | F33: 20 | G33: 2600 | H33: potion of healing, vial of acid | I33: spellbook | J33: dispel magic, gaseous form | M33: horn of blasting | N33: 1 | O33: 2 | P33: 1 | Q33: 1 | R33: 1
A35: !!! PC Level 7
A37: Raiders of the Twilight Marsh | C37: 5000 | D37: 10 | E37: 400 | F37: 10 | G37: =75+400+300+225+4200+1700 -> 6900 | H37: potion of invulnerability | J37: water walk, haste | L37: splint mail (+1) | N37: 2 | O37: 2 | P37: 2 | Q37: 2 | R37: 2 | S37: Traded with a Hag. Either out of greed, naivety, or sheer ignorance, you traded with a hag and now bear a mark visible only to other fey. Any Charisma (Persuasion) checks made to positively influence non-evil fey are made with disadvantage. In order to remove this mark, the hag that you traded with must willingly return the "payment" you rendered in the trade.
A40: !!! PC Level 8
A42: Pool of Radiance Resurgent | C42: 6000 | D42: 10 | E42: 400 | F42: 10 | G42: =1500+1485+100 -> 3085 | H42: potion of gaseous form, potion of greater healing | I42: spellbook | J42: dispel magic | M42: mantle of spell resistance | N42: 2 | O42: 1 | P42: 1 | Q42: 1 | R42: 2
A44: Escape from Phlan | B44: 6th level | C44: 5000 | D44: 10 | E44: 400 | F44: 10 | G44: =1450 -> 1450 | I44: spellbook | M44: robe of eyes

Sheet Лист4
C1: PC's reward | E1: DM's reward | H1: Treasure | I1: potions | J1: misc | K1: scroll | L1: weapons | M1: armors | N1: wondrous items | O1: RENOWN | T1: Emnity
C2: EXP | D2: downtime | E2: EXP | F2: downtime | G2: money | O2: H | P2: Z | Q2: LA | R2: EE | S2: OotG
A3: !!! PC Level 1
A5: City of Danger
A6: Mini-Adventure 1: Hatred like Clawed Wind | B6: 1st level | C6: 100 | D6: 5 | E6: 100 | F6: 5 | G6: 50 | S6: 1
A7: Mini-Adventure 2: Love like Raging Fire | B7: 1st level | C7: 100 | D7: 5 | E7: 100 | F7: 5 | G7: 50 | H7: 200 | I7: fire resistance | Q7: 1
A8: Mini-Adventure 3: Envy like Crushing Earth | B8: 1st level | C8: 100 | D8: 5 | E8: 100 | F8: 5 | G8: 50 | H8: 200 | K8: speak with animals | R8: 1
A9: Mini-Adventure 4: Greed like Fathomless Water | B9: 1st level | C9: 100 | D9: 5 | E9: 100 | F9: 5 | G9: 50 | H9: 200 | I9: water breathing | P9: 1
A10: Mini-Adventure 5: Fear like Dark Oblivion | B10: 1st level | C10: 100 | D10: 5 | E10: 100 | F10: 5 | G10: 50 | H10: 200 | I10: healing | O10: 1
A11: !!! PC Level 2
A12: Embers of Elmwood | B12: 2nd level | C12: 600 | D12: 10 | E12: 200 | F12: 10 | G12: 100 | H12: =150+100+250 -> 500 | I12: healing | N12: staff of charming | O12: 1 | P12: 1 | Q12: 2 | R12: 2 | S12: 1 | T12: To Wear the Cloak. If your character is an arcane spellcaster, Zora Culkin has offered to sponsor your admittance into the Brotherhood of the Cloak. Though joining the Cloaks is mandatory for any arcanists seeking to stay in Mulmaster for an extended period of time, and sponsorship is not required, Zora Culkin's sponsorship will definitely have its perks.
A13: The Drowned Tower | B13: 6 th level | C13: 4000 | D13: 10 | E13: 400 | F13: 10 | G13: 200 | H13: =250+280+220+1250 -> 2000 | I13: fire resistance, invulnerability | L13: trident of warning | O13: 2 | P13: 1 | Q13: 2 | R13: 1 | S13: 1 | T13: To Wear the Cloak. If your character is an arcane spellcaster, Salvar Brix has offered to sponsor your admittance into the Brotherhood of the Cloak. Though joining the Cloaks is mandatory for any arcanists seeking to stay in Mulmaster for an extended period of time, and sponsorship is not required, Salvar's sponsorship might be a future boon.
A14: Mayhem in the Earthspur Mines | B14: 6 th level | C14: 4000 | D14: 10 | E14: 400 | F14: 10 | G14: 200 | H14: 2200 | I14: fire resistance, greater healing, heroism | N14: belt of dwarvenkind | O14: 2 | P14: 2 | Q14: 2 | R14: 2 | S14: 1
A15: Flames of Kythorn | B15: 2nd level | C15: 600 | D15: 10 | E15: 200 | F15: 10 | G15: 100 | H15: 550 | N15: brooch of shielding | O15: 1 | P15: 1 | Q15: 1 | R15: 1 | S15: 1
A16: Breath of the Yellow Rose | B16: 3rd level | C16: 1200 | D16: 10 | E16: 200 | F16: 10 | G16: 100 | H16: =35+40+15+25+500 -> 615 | I16: lightning resistance | K16: misty step | N16: ring of mid shielding | O16: 1 | P16: 1 | Q16: 2 | R16: 1 | S16: 2
A17: Bounty in the Bog | C17: 600 | H17: =200+300+50 -> 550 | I17: healing | J17: spellbook | K17: comprehened languages, silence, remove curse | N17: ring of water walking | O17: 2 | P17: 1 | Q17: 2 | R17: 2 | S17: 1

Sheet Лист5
C1: EXP | F1: pp | G1: gp | H1: ep | I1: sp | J1: cp | K1: potions | L1: misc | M1: scroll | N1: weapons | O1: armors | P1: wondrous items
C2: Per character | G2: Per party
A3: !!! PC Level 1
A4: Into the wilderness
A5: Bears and Bows | B5: black bear, 4 bandits | G5: 13 | I5: 74 | J5: 99 | L5: other plunder = 100 gp
A6: Haunted Tomb | B6: goblin, ogre, specter, flying sword | L6: art = 100 gp, 2 rings = 50 gp
A7: Necromancer's Cave | B7: 7 zombies, 7 skeletons, 5 crawling claws, Oreioth | G7: 78 | I7: 165 | L7: gems = 200 gp | P7: wand of magic missiles, driftglobe
A9: Tomb of Moving Stones
